BEGIN:VCALENDAR
VERSION:2.0
PRODID:icalendar-ruby
CALSCALE:GREGORIAN
METHOD:PUBLISH
BEGIN:VEVENT
DTSTAMP:20260422T005035Z
UID:6-298077@highlandsmethodist.org
DTSTART:20260813T153000Z
DTEND:20260813T170000Z
CLASS:PUBLIC
CREATED:20260304T112036
DESCRIPTION:Our JOY (Just Older Youth) Group meets on Thursdays at 11:30 
 for a meal and fellowship time.  Come join us!!
LAST-MODIFIED:20260304T112036
LOCATION:
SUMMARY:JOY Group
URL;VALUE=URI:https://www.highlandsmethodist.org/events/joy-group/2026-08-1
 3
END:VEVENT
END:VCALENDAR
